BEGIN:VCALENDAR
VERSION:2.0
PRODID:-//UFCW  Local1500 - ECPv6.0.8//NONSGML v1.0//EN
CALSCALE:GREGORIAN
METHOD:PUBLISH
X-WR-CALNAME:UFCW  Local1500
X-ORIGINAL-URL:https://www.ufcw1500.org
X-WR-CALDESC:Events for UFCW  Local1500
REFRESH-INTERVAL;VALUE=DURATION:PT1H
X-Robots-Tag:noindex
X-PUBLISHED-TTL:PT1H
BEGIN:VTIMEZONE
TZID:America/New_York
BEGIN:DAYLIGHT
TZOFFSETFROM:-0500
TZOFFSETTO:-0400
TZNAME:EDT
DTSTART:20240310T070000
END:DAYLIGHT
BEGIN:STANDARD
TZOFFSETFROM:-0400
TZOFFSETTO:-0500
TZNAME:EST
DTSTART:20241103T060000
END:STANDARD
END:VTIMEZONE
BEGIN:VEVENT
DTSTART;TZID=America/New_York:20240313T190000
DTEND;TZID=America/New_York:20240313T210000
DTSTAMP:20240304T220944
CREATED:20240105T151602Z
LAST-MODIFIED:20240105T151643Z
UID:10000009-1710356400-1710363600@www.ufcw1500.org
SUMMARY:2024 General Membership Meeting Schedule
DESCRIPTION:Here are the dates of our upcoming General Membership Meeting for the 2024 year. \n \n  \nIf you have any concerns\, questions\, or just want general information\, be sure to attend our General Membership Meeting in person at Frank Meehan Hall (425 Merrick\, Avenue Westbury NY)\, or via YouTube Live at 7:00 P.M.
URL:https://www.ufcw1500.org/event/2024-general-membership-meeting-schedule/
ATTACH;FMTTYPE=image/png:https://www.ufcw1500.org/wp-content/uploads/2024/01/GMM-2024-Mar.Jun_.Sept_.png
END:VEVENT
BEGIN:VEVENT
DTSTART;TZID=America/New_York:20240314T133000
DTEND;TZID=America/New_York:20240314T193000
DTSTAMP:20240304T220944
CREATED:20240108T154029Z
LAST-MODIFIED:20240129T180409Z
UID:10000010-1710423000-1710444600@www.ufcw1500.org
SUMMARY:Local 1500's Blood Drive
DESCRIPTION:We are back and looking to save lives! Please donate blood at Local 1500’s Blood Drive\, which will be held on Thursday March 14th at 1:45 p.m.- 7:45 p.m. \nHelp save a life this year by donating some blood. Be sure to RSVP here
URL:https://www.ufcw1500.org/event/local-1500s-blood-drive/
ATTACH;FMTTYPE=image/png:https://www.ufcw1500.org/wp-content/uploads/2024/01/Blood-Drive-2024.png
END:VEVENT
END:VCALENDAR