BEGIN:VCALENDAR
VERSION:2.0
PRODID:-//UFCW  Local1500 - ECPv6.15.20//NONSGML v1.0//EN
CALSCALE:GREGORIAN
METHOD:PUBLISH
X-WR-CALNAME:UFCW  Local1500
X-ORIGINAL-URL:https://www.ufcw1500.org
X-WR-CALDESC:Events for UFCW  Local1500
REFRESH-INTERVAL;VALUE=DURATION:PT1H
X-Robots-Tag:noindex
X-PUBLISHED-TTL:PT1H
BEGIN:VTIMEZONE
TZID:America/New_York
BEGIN:DAYLIGHT
TZOFFSETFROM:-0500
TZOFFSETTO:-0400
TZNAME:EDT
DTSTART:20220313T070000
END:DAYLIGHT
BEGIN:STANDARD
TZOFFSETFROM:-0400
TZOFFSETTO:-0500
TZNAME:EST
DTSTART:20221106T060000
END:STANDARD
BEGIN:DAYLIGHT
TZOFFSETFROM:-0500
TZOFFSETTO:-0400
TZNAME:EDT
DTSTART:20230312T070000
END:DAYLIGHT
BEGIN:STANDARD
TZOFFSETFROM:-0400
TZOFFSETTO:-0500
TZNAME:EST
DTSTART:20231105T060000
END:STANDARD
BEGIN:DAYLIGHT
TZOFFSETFROM:-0500
TZOFFSETTO:-0400
TZNAME:EDT
DTSTART:20240310T070000
END:DAYLIGHT
BEGIN:STANDARD
TZOFFSETFROM:-0400
TZOFFSETTO:-0500
TZNAME:EST
DTSTART:20241103T060000
END:STANDARD
BEGIN:DAYLIGHT
TZOFFSETFROM:-0500
TZOFFSETTO:-0400
TZNAME:EDT
DTSTART:20250309T070000
END:DAYLIGHT
BEGIN:STANDARD
TZOFFSETFROM:-0400
TZOFFSETTO:-0500
TZNAME:EST
DTSTART:20251102T060000
END:STANDARD
END:VTIMEZONE
BEGIN:VEVENT
DTSTART;TZID=America/New_York:20240609T190000
DTEND;TZID=America/New_York:20240609T230000
DTSTAMP:20260422T062929
CREATED:20240327T140015Z
LAST-MODIFIED:20240409T145428Z
UID:10000013-1717959600-1717974000@www.ufcw1500.org
SUMMARY:Local 1500 Charity Fundraiser: Comedy Night
DESCRIPTION:Join us on Sunday\, June 9th for our comedy fundraiser night. Doors open at 5:30 P.M. Contact union representative\, Gina Guelee for tickets @ 516-214-1322 and/or Gguelee@ufcw1500.org. \n 
URL:https://www.ufcw1500.org/event/local-1500-charity-fundraiser-comedy-night/
LOCATION:Governor’s Comedy Clubs\, 90 Division Avenue\, Levittown\, 11756
ATTACH;FMTTYPE=image/jpeg:https://www.ufcw1500.org/wp-content/uploads/2024/04/Comedy-Fundraiser-Tickets.jpeg
ORGANIZER;CN="Gina Guelee":MAILTO:gguelee@ufcw1500.org
END:VEVENT
BEGIN:VEVENT
DTSTART;TZID=America/New_York:20240518T173000
DTEND;TZID=America/New_York:20240518T200000
DTSTAMP:20260422T062929
CREATED:20240325T182236Z
LAST-MODIFIED:20240412T134248Z
UID:10000011-1716053400-1716062400@www.ufcw1500.org
SUMMARY:10th Annual UFCW Local 1500 Bowl-A-Thon
DESCRIPTION:UFCW Local 1500 presents our 10th Annual UFCW Local 1500 Bowl-A-Thon! It will be held on Saturday May 18th 2024 from 5:30 P.M. – 8:00 P.M. To reserve your lane please contact Rafael Mauleon: 516-214-1358 or Greg Pasquale: 516-214-1356. Be sure to reserve your spot early!
URL:https://www.ufcw1500.org/event/10th-annual-ufcw-local-1500-bowl-a-thon/
LOCATION:Fishkill Bowl\, 110 Route 82\, Fishkill\, NY\, 12524\, United States
ATTACH;FMTTYPE=image/png:https://www.ufcw1500.org/wp-content/uploads/2024/03/Bowlathon-2024-For-IG.png
ORGANIZER;CN="Rafael Mauleon":MAILTO:rmauleon@ufcw1500.org
END:VEVENT
BEGIN:VEVENT
DTSTART;VALUE=DATE:20230913
DTEND;VALUE=DATE:20230914
DTSTAMP:20260422T062929
CREATED:20230324T183340Z
LAST-MODIFIED:20230324T185201Z
UID:10000006-1694563200-1694649599@www.ufcw1500.org
SUMMARY:General Membership Meeting
DESCRIPTION:
URL:https://www.ufcw1500.org/event/general-membership-meeting-2/
END:VEVENT
BEGIN:VEVENT
DTSTART;VALUE=DATE:20230614
DTEND;VALUE=DATE:20230615
DTSTAMP:20260422T062929
CREATED:20230324T183211Z
LAST-MODIFIED:20230324T185133Z
UID:10000005-1686700800-1686787199@www.ufcw1500.org
SUMMARY:General Membership Meeting
DESCRIPTION:
URL:https://www.ufcw1500.org/event/general-membership-meeting/
END:VEVENT
BEGIN:VEVENT
DTSTART;TZID=America/New_York:20230513T173000
DTEND;TZID=America/New_York:20230513T200000
DTSTAMP:20260422T062929
CREATED:20230113T191121Z
LAST-MODIFIED:20230418T121917Z
UID:10000003-1683999000-1684008000@www.ufcw1500.org
SUMMARY:8th Annual UFCW Local 1500 Bowl-A-Thon
DESCRIPTION:
URL:https://www.ufcw1500.org/event/bowlathon/
ATTACH;FMTTYPE=image/png:https://www.ufcw1500.org/wp-content/uploads/2023/01/Bowlathon-2023-Flyer.png
END:VEVENT
BEGIN:VEVENT
DTSTART;TZID=America/New_York:20230321T134500
DTEND;TZID=America/New_York:20230321T194500
DTSTAMP:20260422T062929
CREATED:20221214T212944Z
LAST-MODIFIED:20230324T163744Z
UID:10000001-1679406300-1679427900@www.ufcw1500.org
SUMMARY:Blood Drive
DESCRIPTION:
URL:https://www.ufcw1500.org/event/blood-drive/
ATTACH;FMTTYPE=image/png:https://www.ufcw1500.org/wp-content/uploads/2022/12/Blood-Drive.png
END:VEVENT
BEGIN:VEVENT
DTSTART;TZID=America/New_York:20230321T080000
DTEND;TZID=America/New_York:20230321T193000
DTSTAMP:20260422T062929
CREATED:20230324T182852Z
LAST-MODIFIED:20230324T185108Z
UID:10000004-1679385600-1679427000@www.ufcw1500.org
SUMMARY:Islanders Game
DESCRIPTION:
URL:https://www.ufcw1500.org/event/islanders-game/
END:VEVENT
BEGIN:VEVENT
DTSTART;VALUE=DATE:20230213
DTEND;VALUE=DATE:20230515
DTSTAMP:20260422T062929
CREATED:20230113T191027Z
LAST-MODIFIED:20230324T164626Z
UID:10000002-1676246400-1684108799@www.ufcw1500.org
SUMMARY:UFCW Charity Foundation 2023 Scholarship Program
DESCRIPTION:
URL:https://www.ufcw1500.org/event/ufcw-charity-foundation-2023-scholarship-program/
ATTACH;FMTTYPE=image/png:https://www.ufcw1500.org/wp-content/uploads/2023/01/English-Scholarship-Flyer-2023.png
END:VEVENT
END:VCALENDAR