BEGIN:VCALENDAR
VERSION:2.0
PRODID:-//UFCW  Local1500 - ECPv6.15.20//NONSGML v1.0//EN
CALSCALE:GREGORIAN
METHOD:PUBLISH
X-ORIGINAL-URL:https://www.ufcw1500.org
X-WR-CALDESC:Events for UFCW  Local1500
REFRESH-INTERVAL;VALUE=DURATION:PT1H
X-Robots-Tag:noindex
X-PUBLISHED-TTL:PT1H
BEGIN:VTIMEZONE
TZID:America/New_York
BEGIN:DAYLIGHT
TZOFFSETFROM:-0500
TZOFFSETTO:-0400
TZNAME:EDT
DTSTART:20230312T070000
END:DAYLIGHT
BEGIN:STANDARD
TZOFFSETFROM:-0400
TZOFFSETTO:-0500
TZNAME:EST
DTSTART:20231105T060000
END:STANDARD
BEGIN:DAYLIGHT
TZOFFSETFROM:-0500
TZOFFSETTO:-0400
TZNAME:EDT
DTSTART:20240310T070000
END:DAYLIGHT
BEGIN:STANDARD
TZOFFSETFROM:-0400
TZOFFSETTO:-0500
TZNAME:EST
DTSTART:20241103T060000
END:STANDARD
BEGIN:DAYLIGHT
TZOFFSETFROM:-0500
TZOFFSETTO:-0400
TZNAME:EDT
DTSTART:20250309T070000
END:DAYLIGHT
BEGIN:STANDARD
TZOFFSETFROM:-0400
TZOFFSETTO:-0500
TZNAME:EST
DTSTART:20251102T060000
END:STANDARD
BEGIN:DAYLIGHT
TZOFFSETFROM:-0500
TZOFFSETTO:-0400
TZNAME:EDT
DTSTART:20260308T070000
END:DAYLIGHT
BEGIN:STANDARD
TZOFFSETFROM:-0400
TZOFFSETTO:-0500
TZNAME:EST
DTSTART:20261101T060000
END:STANDARD
END:VTIMEZONE
BEGIN:VEVENT
DTSTART;TZID=America/New_York:20250829T170000
DTEND;TZID=America/New_York:20250829T210000
DTSTAMP:20260420T084806
CREATED:20250513T132539Z
LAST-MODIFIED:20250729T202848Z
UID:10000024-1756486800-1756501200@www.ufcw1500.org
SUMMARY:Fish For A Cause
DESCRIPTION:  \nShow your union pride and join us on Friday\, August 29th 2025  at our annual fishing trip. You may purchase your tickets through Venmo.  Adults will be charged $50.00. Children will be charged $35.00. For more information please call union representative Fred Walter at 516-214-1349 or union representative Steve Zeiner at 516-214-1311.
URL:https://www.ufcw1500.org/event/fish-for-a-cause-2/
LOCATION:Yankee Captree State Park\, 3500 Ocean Parkway\, Bay Shore\, NY\, 11706\, United States
ATTACH;FMTTYPE=image/jpeg:https://www.ufcw1500.org/wp-content/uploads/2025/06/Fish-For-A-Cause-2025.-v4.jpg
END:VEVENT
BEGIN:VEVENT
DTSTART;TZID=America/New_York:20240830T170000
DTEND;TZID=America/New_York:20240830T210000
DTSTAMP:20260420T084806
CREATED:20240329T184502Z
LAST-MODIFIED:20240409T145542Z
UID:10000012-1725037200-1725051600@www.ufcw1500.org
SUMMARY:Fish For A Cause
DESCRIPTION:Join us on\, Friday August 30th and show your union pride at our annual Fishing Trip! Be sure to get your tickets ASAP as there are limited spots available. For more information you can contact Jeff Guardado @ 516-214-1317 or Steve Zeiner @ 516-214-1311.
URL:https://www.ufcw1500.org/event/fish-for-a-cause/
LOCATION:Yankee Captree State Park\, 3500 Ocean Parkway\, Bay Shore\, NY\, 11706\, United States
ATTACH;FMTTYPE=image/png:https://www.ufcw1500.org/wp-content/uploads/2024/03/Fish-For-a-Cure-24-v2.png
ORGANIZER;CN="Jeffery Guardado":MAILTO:jguardado@ufcw1500.org
END:VEVENT
BEGIN:VEVENT
DTSTART;TZID=America/New_York:20240726T070000
DTEND;TZID=America/New_York:20240823T150000
DTSTAMP:20260420T084806
CREATED:20240726T213820Z
LAST-MODIFIED:20240802T194044Z
UID:10000014-1721977200-1724425200@www.ufcw1500.org
SUMMARY:Back To School Giveaway
DESCRIPTION:Our Back to School Giveaway is back! To apply send us an email at backtoschoolgiveaway@ufcw1500.org. Prizes include backpacks\, notebooks\, pens\, pencils\, and more! Be sure to apply while supplies last! The deadline is August 23rd! \n  \n 
URL:https://www.ufcw1500.org/event/backtoschool/
LOCATION:Yankee Captree State Park\, 3500 Ocean Parkway\, Bay Shore\, NY\, 11706\, United States
ATTACH;FMTTYPE=image/png:https://www.ufcw1500.org/wp-content/uploads/2024/07/Screenshot-2024-08-02-at-3.31.43 PM.png
ORGANIZER;CN="George Kapogiannopoulos":MAILTO:info@ufcw100.org
END:VEVENT
END:VCALENDAR